Workbook
Name _hP: Parcelles!$A$4:$G$4
Name _hR: Produits!$A$4:$I$4
Name _lP: _k!$A$2:$A$501
Name _lR: _k!$B$2:$B$501
Name _P: Parcelles!$A$5:$G$504
Name _R: Produits!$A$5:$I$504

Sheet Parcelles
A1: Fermage : calculez ou vérifiez le vôtre gratuitement avec Domania → domania.exygen.fr
A2: Une parcelle par ligne. Le nom sert de clé dans le registre : il doit être unique.
A4: Parcelle | B4: Îlot PAC | C4: Culture | D4: Variété | E4: Surface (ha) | F4: Commune | G4: Remarques

Sheet Produits
A1: Inclus dans Phytia : la gestion des entrées et sorties de stock de vos produits, 20 €/an → phytia.exygen.fr
A2: Un produit par ligne. Le nom sert de clé dans le registre : il doit être unique. Les doses sont des doses, sans unité.
A4: Produit | B4: N° AMM | C4: Substance(s) active(s) | D4: Fonction | E4: Dose homologuée | F4: DAR (j) | G4: DRE (h) | H4: ZNT (m) | I4: Remarques

Sheet Registre
A1: Ce registre, sur mobile et sur ordinateur, synchronisé : Phytia, 20 €/an → phytia.exygen.fr
D2: Export : bouton vert ou menu Registre > Exporter en CSV (script registre-phyto.gs à installer, voir son en-tête).
A3: Choisissez la parcelle et le produit dans les listes ; les colonnes grisées se remplissent seules.
A4: Date | B4: Heure | C4: Parcelle | D4: Îlot PAC | E4: Culture | F4: Surface (ha) | G4: Produit | H4: N° AMM | I4: Fonction | J4: Dose | K4: Cible | L4: Stade | M4: Conditions | N4: Opérateur | O4: DAR (j) | P4: Récolte possible le | Q4: DRE (h) | R4: Réentrée possible le | S4: Observations
D5: =IF($C5="","",IFERROR(IF(VLOOKUP($C5,_P,MATCH(D$4,_hP,0),FALSE)="","",VLOOKUP($C5,_P,MATCH(D$4,_hP,0),FALSE)),"⚠")) -> 0 | E5: =IF($C5="","",IFERROR(IF(VLOOKUP($C5,_P,MATCH(E$4,_hP,0),FALSE)="","",VLOOKUP($C5,_P,MATCH(E$4,_hP,0),FALSE)),"⚠")) -> 0 | F5: =IF($C5="","",IFERROR(IF(VLOOKUP($C5,_P,MATCH(F$4,_hP,0),FALSE)="","",VLOOKUP($C5,_P,MATCH(F$4,_hP,0),FALSE)),"⚠")) -> 0 | H5: =IF($G5="","",IFERROR(IF(VLOOKUP($G5,_R,MATCH(H$4,_hR,0),FALSE)="","",VLOOKUP($G5,_R,MATCH(H$4,_hR,0),FALSE)),"⚠")) -> 0 | I5: =IF($G5="","",IFERROR(IF(VLOOKUP($G5,_R,MATCH(I$4,_hR,0),FALSE)="","",VLOOKUP($G5,_R,MATCH(I$4,_hR,0),FALSE)),"⚠")) -> 0 | O5: =IF($G5="","",IFERROR(IF(VLOOKUP($G5,_R,MATCH(O$4,_hR,0),FALSE)="","",VLOOKUP($G5,_R,MATCH(O$4,_hR,0),FALSE)),"⚠")) -> 0 | P5: =IF(AND(ISNUMBER($A5),ISNUMBER($O5)),$A5+$O5,"") -> 0 | Q5: =IF($G5="","",IFERROR(IF(VLOOKUP($G5,_R,MATCH(Q$4,_hR,0),FALSE)="","",VLOOKUP($G5,_R,MATCH(Q$4,_hR,0),FALSE)),"⚠")) -> 0 | R5: =IF(AND(ISNUMBER($A5),ISNUMBER($Q5)),$A5+N($B5)+$Q5/24,"") -> 0
D6: =IF($C6="","",IFERROR(IF(VLOOKUP($C6,_P,MATCH(D$4,_hP,0),FALSE)="","",VLOOKUP($C6,_P,MATCH(D$4,_hP,0),FALSE)),"⚠")) -> 0 | E6: =IF($C6="","",IFERROR(IF(VLOOKUP($C6,_P,MATCH(E$4,_hP,0),FALSE)="","",VLOOKUP($C6,_P,MATCH(E$4,_hP,0),FALSE)),"⚠")) -> 0 | F6: =IF($C6="","",IFERROR(IF(VLOOKUP($C6,_P,MATCH(F$4,_hP,0),FALSE)="","",VLOOKUP($C6,_P,MATCH(F$4,_hP,0),FALSE)),"⚠")) -> 0 | H6: =IF($G6="","",IFERROR(IF(VLOOKUP($G6,_R,MATCH(H$4,_hR,0),FALSE)="","",VLOOKUP($G6,_R,MATCH(H$4,_hR,0),FALSE)),"⚠")) -> 0 | I6: =IF($G6="","",IFERROR(IF(VLOOKUP($G6,_R,MATCH(I$4,_hR,0),FALSE)="","",VLOOKUP($G6,_R,MATCH(I$4,_hR,0),FALSE)),"⚠")) -> 0 | O6: =IF($G6="","",IFERROR(IF(VLOOKUP($G6,_R,MATCH(O$4,_hR,0),FALSE)="","",VLOOKUP($G6,_R,MATCH(O$4,_hR,0),FALSE)),"⚠")) -> 0 | P6: =IF(AND(ISNUMBER($A6),ISNUMBER($O6)),$A6+$O6,"") -> 0 | Q6: =IF($G6="","",IFERROR(IF(VLOOKUP($G6,_R,MATCH(Q$4,_hR,0),FALSE)="","",VLOOKUP($G6,_R,MATCH(Q$4,_hR,0),FALSE)),"⚠")) -> 0 | R6: =IF(AND(ISNUMBER($A6),ISNUMBER($Q6)),$A6+N($B6)+$Q6/24,"") -> 0
D7: =IF($C7="","",IFERROR(IF(VLOOKUP($C7,_P,MATCH(D$4,_hP,0),FALSE)="","",VLOOKUP($C7,_P,MATCH(D$4,_hP,0),FALSE)),"⚠")) -> 0 | E7: =IF($C7="","",IFERROR(IF(VLOOKUP($C7,_P,MATCH(E$4,_hP,0),FALSE)="","",VLOOKUP($C7,_P,MATCH(E$4,_hP,0),FALSE)),"⚠")) -> 0 | F7: =IF($C7="","",IFERROR(IF(VLOOKUP($C7,_P,MATCH(F$4,_hP,0),FALSE)="","",VLOOKUP($C7,_P,MATCH(F$4,_hP,0),FALSE)),"⚠")) -> 0 | H7: =IF($G7="","",IFERROR(IF(VLOOKUP($G7,_R,MATCH(H$4,_hR,0),FALSE)="","",VLOOKUP($G7,_R,MATCH(H$4,_hR,0),FALSE)),"⚠")) -> 0 | I7: =IF($G7="","",IFERROR(IF(VLOOKUP($G7,_R,MATCH(I$4,_hR,0),FALSE)="","",VLOOKUP($G7,_R,MATCH(I$4,_hR,0),FALSE)),"⚠")) -> 0 | O7: =IF($G7="","",IFERROR(IF(VLOOKUP($G7,_R,MATCH(O$4,_hR,0),FALSE)="","",VLOOKUP($G7,_R,MATCH(O$4,_hR,0),FALSE)),"⚠")) -> 0 | P7: =IF(AND(ISNUMBER($A7),ISNUMBER($O7)),$A7+$O7,"") -> 0 | Q7: =IF($G7="","",IFERROR(IF(VLOOKUP($G7,_R,MATCH(Q$4,_hR,0),FALSE)="","",VLOOKUP($G7,_R,MATCH(Q$4,_hR,0),FALSE)),"⚠")) -> 0 | R7: =IF(AND(ISNUMBER($A7),ISNUMBER($Q7)),$A7+N($B7)+$Q7/24,"") -> 0
D8: =IF($C8="","",IFERROR(IF(VLOOKUP($C8,_P,MATCH(D$4,_hP,0),FALSE)="","",VLOOKUP($C8,_P,MATCH(D$4,_hP,0),FALSE)),"⚠")) -> 0 | E8: =IF($C8="","",IFERROR(IF(VLOOKUP($C8,_P,MATCH(E$4,_hP,0),FALSE)="","",VLOOKUP($C8,_P,MATCH(E$4,_hP,0),FALSE)),"⚠")) -> 0 | F8: =IF($C8="","",IFERROR(IF(VLOOKUP($C8,_P,MATCH(F$4,_hP,0),FALSE)="","",VLOOKUP($C8,_P,MATCH(F$4,_hP,0),FALSE)),"⚠")) -> 0 | H8: =IF($G8="","",IFERROR(IF(VLOOKUP($G8,_R,MATCH(H$4,_hR,0),FALSE)="","",VLOOKUP($G8,_R,MATCH(H$4,_hR,0),FALSE)),"⚠")) -> 0 | I8: =IF($G8="","",IFERROR(IF(VLOOKUP($G8,_R,MATCH(I$4,_hR,0),FALSE)="","",VLOOKUP($G8,_R,MATCH(I$4,_hR,0),FALSE)),"⚠")) -> 0 | O8: =IF($G8="","",IFERROR(IF(VLOOKUP($G8,_R,MATCH(O$4,_hR,0),FALSE)="","",VLOOKUP($G8,_R,MATCH(O$4,_hR,0),FALSE)),"⚠")) -> 0 | P8: =IF(AND(ISNUMBER($A8),ISNUMBER($O8)),$A8+$O8,"") -> 0 | Q8: =IF($G8="","",IFERROR(IF(VLOOKUP($G8,_R,MATCH(Q$4,_hR,0),FALSE)="","",VLOOKUP($G8,_R,MATCH(Q$4,_hR,0),FALSE)),"⚠")) -> 0 | R8: =IF(AND(ISNUMBER($A8),ISNUMBER($Q8)),$A8+N($B8)+$Q8/24,"") -> 0
D9: =IF($C9="","",IFERROR(IF(VLOOKUP($C9,_P,MATCH(D$4,_hP,0),FALSE)="","",VLOOKUP($C9,_P,MATCH(D$4,_hP,0),FALSE)),"⚠")) -> 0 | E9: =IF($C9="","",IFERROR(IF(VLOOKUP($C9,_P,MATCH(E$4,_hP,0),FALSE)="","",VLOOKUP($C9,_P,MATCH(E$4,_hP,0),FALSE)),"⚠")) -> 0 | F9: =IF($C9="","",IFERROR(IF(VLOOKUP($C9,_P,MATCH(F$4,_hP,0),FALSE)="","",VLOOKUP($C9,_P,MATCH(F$4,_hP,0),FALSE)),"⚠")) -> 0 | H9: =IF($G9="","",IFERROR(IF(VLOOKUP($G9,_R,MATCH(H$4,_hR,0),FALSE)="","",VLOOKUP($G9,_R,MATCH(H$4,_hR,0),FALSE)),"⚠")) -> 0 | I9: =IF($G9="","",IFERROR(IF(VLOOKUP($G9,_R,MATCH(I$4,_hR,0),FALSE)="","",VLOOKUP($G9,_R,MATCH(I$4,_hR,0),FALSE)),"⚠")) -> 0 | O9: =IF($G9="","",IFERROR(IF(VLOOKUP($G9,_R,MATCH(O$4,_hR,0),FALSE)="","",VLOOKUP($G9,_R,MATCH(O$4,_hR,0),FALSE)),"⚠")) -> 0 | P9: =IF(AND(ISNUMBER($A9),ISNUMBER($O9)),$A9+$O9,"") -> 0 | Q9: =IF($G9="","",IFERROR(IF(VLOOKUP($G9,_R,MATCH(Q$4,_hR,0),FALSE)="","",VLOOKUP($G9,_R,MATCH(Q$4,_hR,0),FALSE)),"⚠")) -> 0 | R9: =IF(AND(ISNUMBER($A9),ISNUMBER($Q9)),$A9+N($B9)+$Q9/24,"") -> 0
D10: =IF($C10="","",IFERROR(IF(VLOOKUP($C10,_P,MATCH(D$4,_hP,0),FALSE)="","",VLOOKUP($C10,_P,MATCH(D$4,_hP,0),FALSE)),"⚠")) -> 0 | E10: =IF($C10="","",IFERROR(IF(VLOOKUP($C10,_P,MATCH(E$4,_hP,0),FALSE)="","",VLOOKUP($C10,_P,MATCH(E$4,_hP,0),FALSE)),"⚠")) -> 0 | F10: =IF($C10="","",IFERROR(IF(VLOOKUP($C10,_P,MATCH(F$4,_hP,0),FALSE)="","",VLOOKUP($C10,_P,MATCH(F$4,_hP,0),FALSE)),"⚠")) -> 0 | H10: =IF($G10="","",IFERROR(IF(VLOOKUP($G10,_R,MATCH(H$4,_hR,0),FALSE)="","",VLOOKUP($G10,_R,MATCH(H$4,_hR,0),FALSE)),"⚠")) -> 0 | I10: =IF($G10="","",IFERROR(IF(VLOOKUP($G10,_R,MATCH(I$4,_hR,0),FALSE)="","",VLOOKUP($G10,_R,MATCH(I$4,_hR,0),FALSE)),"⚠")) -> 0 | O10: =IF($G10="","",IFERROR(IF(VLOOKUP($G10,_R,MATCH(O$4,_hR,0),FALSE)="","",VLOOKUP($G10,_R,MATCH(O$4,_hR,0),FALSE)),"⚠")) -> 0 | P10: =IF(AND(ISNUMBER($A10),ISNUMBER($O10)),$A10+$O10,"") -> 0 | Q10: =IF($G10="","",IFERROR(IF(VLOOKUP($G10,_R,MATCH(Q$4,_hR,0),FALSE)="","",VLOOKUP($G10,_R,MATCH(Q$4,_hR,0),FALSE)),"⚠")) -> 0 | R10: =IF(AND(ISNUMBER($A10),ISNUMBER($Q10)),$A10+N($B10)+$Q10/24,"") -> 0
D11: =IF($C11="","",IFERROR(IF(VLOOKUP($C11,_P,MATCH(D$4,_hP,0),FALSE)="","",VLOOKUP($C11,_P,MATCH(D$4,_hP,0),FALSE)),"⚠")) -> 0 | E11: =IF($C11="","",IFERROR(IF(VLOOKUP($C11,_P,MATCH(E$4,_hP,0),FALSE)="","",VLOOKUP($C11,_P,MATCH(E$4,_hP,0),FALSE)),"⚠")) -> 0 | F11: =IF($C11="","",IFERROR(IF(VLOOKUP($C11,_P,MATCH(F$4,_hP,0),FALSE)="","",VLOOKUP($C11,_P,MATCH(F$4,_hP,0),FALSE)),"⚠")) -> 0 | H11: =IF($G11="","",IFERROR(IF(VLOOKUP($G11,_R,MATCH(H$4,_hR,0),FALSE)="","",VLOOKUP($G11,_R,MATCH(H$4,_hR,0),FALSE)),"⚠")) -> 0 | I11: =IF($G11="","",IFERROR(IF(VLOOKUP($G11,_R,MATCH(I$4,_hR,0),FALSE)="","",VLOOKUP($G11,_R,MATCH(I$4,_hR,0),FALSE)),"⚠")) -> 0 | O11: =IF($G11="","",IFERROR(IF(VLOOKUP($G11,_R,MATCH(O$4,_hR,0),FALSE)="","",VLOOKUP($G11,_R,MATCH(O$4,_hR,0),FALSE)),"⚠")) -> 0 | P11: =IF(AND(ISNUMBER($A11),ISNUMBER($O11)),$A11+$O11,"") -> 0 | Q11: =IF($G11="","",IFERROR(IF(VLOOKUP($G11,_R,MATCH(Q$4,_hR,0),FALSE)="","",VLOOKUP($G11,_R,MATCH(Q$4,_hR,0),FALSE)),"⚠")) -> 0 | R11: =IF(AND(ISNUMBER($A11),ISNUMBER($Q11)),$A11+N($B11)+$Q11/24,"") -> 0
D12: =IF($C12="","",IFERROR(IF(VLOOKUP($C12,_P,MATCH(D$4,_hP,0),FALSE)="","",VLOOKUP($C12,_P,MATCH(D$4,_hP,0),FALSE)),"⚠")) -> 0 | E12: =IF($C12="","",IFERROR(IF(VLOOKUP($C12,_P,MATCH(E$4,_hP,0),FALSE)="","",VLOOKUP($C12,_P,MATCH(E$4,_hP,0),FALSE)),"⚠")) -> 0 | F12: =IF($C12="","",IFERROR(IF(VLOOKUP($C12,_P,MATCH(F$4,_hP,0),FALSE)="","",VLOOKUP($C12,_P,MATCH(F$4,_hP,0),FALSE)),"⚠")) -> 0 | H12: =IF($G12="","",IFERROR(IF(VLOOKUP($G12,_R,MATCH(H$4,_hR,0),FALSE)="","",VLOOKUP($G12,_R,MATCH(H$4,_hR,0),FALSE)),"⚠")) -> 0 | I12: =IF($G12="","",IFERROR(IF(VLOOKUP($G12,_R,MATCH(I$4,_hR,0),FALSE)="","",VLOOKUP($G12,_R,MATCH(I$4,_hR,0),FALSE)),"⚠")) -> 0 | O12: =IF($G12="","",IFERROR(IF(VLOOKUP($G12,_R,MATCH(O$4,_hR,0),FALSE)="","",VLOOKUP($G12,_R,MATCH(O$4,_hR,0),FALSE)),"⚠")) -> 0 | P12: =IF(AND(ISNUMBER($A12),ISNUMBER($O12)),$A12+$O12,"") -> 0 | Q12: =IF($G12="","",IFERROR(IF(VLOOKUP($G12,_R,MATCH(Q$4,_hR,0),FALSE)="","",VLOOKUP($G12,_R,MATCH(Q$4,_hR,0),FALSE)),"⚠")) -> 0 | R12: =IF(AND(ISNUMBER($A12),ISNUMBER($Q12)),$A12+N($B12)+$Q12/24,"") -> 0
D13: =IF($C13="","",IFERROR(IF(VLOOKUP($C13,_P,MATCH(D$4,_hP,0),FALSE)="","",VLOOKUP($C13,_P,MATCH(D$4,_hP,0),FALSE)),"⚠")) -> 0 | E13: =IF($C13="","",IFERROR(IF(VLOOKUP($C13,_P,MATCH(E$4,_hP,0),FALSE)="","",VLOOKUP($C13,_P,MATCH(E$4,_hP,0),FALSE)),"⚠")) -> 0 | F13: =IF($C13="","",IFERROR(IF(VLOOKUP($C13,_P,MATCH(F$4,_hP,0),FALSE)="","",VLOOKUP($C13,_P,MATCH(F$4,_hP,0),FALSE)),"⚠")) -> 0 | H13: =IF($G13="","",IFERROR(IF(VLOOKUP($G13,_R,MATCH(H$4,_hR,0),FALSE)="","",VLOOKUP($G13,_R,MATCH(H$4,_hR,0),FALSE)),"⚠")) -> 0 | I13: =IF($G13="","",IFERROR(IF(VLOOKUP($G13,_R,MATCH(I$4,_hR,0),FALSE)="","",VLOOKUP($G13,_R,MATCH(I$4,_hR,0),FALSE)),"⚠")) -> 0 | O13: =IF($G13="","",IFERROR(IF(VLOOKUP($G13,_R,MATCH(O$4,_hR,0),FALSE)="","",VLOOKUP($G13,_R,MATCH(O$4,_hR,0),FALSE)),"⚠")) -> 0 | P13: =IF(AND(ISNUMBER($A13),ISNUMBER($O13)),$A13+$O13,"") -> 0 | Q13: =IF($G13="","",IFERROR(IF(VLOOKUP($G13,_R,MATCH(Q$4,_hR,0),FALSE)="","",VLOOKUP($G13,_R,MATCH(Q$4,_hR,0),FALSE)),"⚠")) -> 0 | R13: =IF(AND(ISNUMBER($A13),ISNUMBER($Q13)),$A13+N($B13)+$Q13/24,"") -> 0
D14: =IF($C14="","",IFERROR(IF(VLOOKUP($C14,_P,MATCH(D$4,_hP,0),FALSE)="","",VLOOKUP($C14,_P,MATCH(D$4,_hP,0),FALSE)),"⚠")) -> 0 | E14: =IF($C14="","",IFERROR(IF(VLOOKUP($C14,_P,MATCH(E$4,_hP,0),FALSE)="","",VLOOKUP($C14,_P,MATCH(E$4,_hP,0),FALSE)),"⚠")) -> 0 | F14: =IF($C14="","",IFERROR(IF(VLOOKUP($C14,_P,MATCH(F$4,_hP,0),FALSE)="","",VLOOKUP($C14,_P,MATCH(F$4,_hP,0),FALSE)),"⚠")) -> 0 | H14: =IF($G14="","",IFERROR(IF(VLOOKUP($G14,_R,MATCH(H$4,_hR,0),FALSE)="","",VLOOKUP($G14,_R,MATCH(H$4,_hR,0),FALSE)),"⚠")) -> 0 | I14: =IF($G14="","",IFERROR(IF(VLOOKUP($G14,_R,MATCH(I$4,_hR,0),FALSE)="","",VLOOKUP($G14,_R,MATCH(I$4,_hR,0),FALSE)),"⚠")) -> 0 | O14: =IF($G14="","",IFERROR(IF(VLOOKUP($G14,_R,MATCH(O$4,_hR,0),FALSE)="","",VLOOKUP($G14,_R,MATCH(O$4,_hR,0),FALSE)),"⚠")) -> 0 | P14: =IF(AND(ISNUMBER($A14),ISNUMBER($O14)),$A14+$O14,"") -> 0 | Q14: =IF($G14="","",IFERROR(IF(VLOOKUP($G14,_R,MATCH(Q$4,_hR,0),FALSE)="","",VLOOKUP($G14,_R,MATCH(Q$4,_hR,0),FALSE)),"⚠")) -> 0 | R14: =IF(AND(ISNUMBER($A14),ISNUMBER($Q14)),$A14+N($B14)+$Q14/24,"") -> 0
D15: =IF($C15="","",IFERROR(IF(VLOOKUP($C15,_P,MATCH(D$4,_hP,0),FALSE)="","",VLOOKUP($C15,_P,MATCH(D$4,_hP,0),FALSE)),"⚠")) -> 0 | E15: =IF($C15="","",IFERROR(IF(VLOOKUP($C15,_P,MATCH(E$4,_hP,0),FALSE)="","",VLOOKUP($C15,_P,MATCH(E$4,_hP,0),FALSE)),"⚠")) -> 0 | F15: =IF($C15="","",IFERROR(IF(VLOOKUP($C15,_P,MATCH(F$4,_hP,0),FALSE)="","",VLOOKUP($C15,_P,MATCH(F$4,_hP,0),FALSE)),"⚠")) -> 0 | H15: =IF($G15="","",IFERROR(IF(VLOOKUP($G15,_R,MATCH(H$4,_hR,0),FALSE)="","",VLOOKUP($G15,_R,MATCH(H$4,_hR,0),FALSE)),"⚠")) -> 0 | I15: =IF($G15="","",IFERROR(IF(VLOOKUP($G15,_R,MATCH(I$4,_hR,0),FALSE)="","",VLOOKUP($G15,_R,MATCH(I$4,_hR,0),FALSE)),"⚠")) -> 0 | O15: =IF($G15="","",IFERROR(IF(VLOOKUP($G15,_R,MATCH(O$4,_hR,0),FALSE)="","",VLOOKUP($G15,_R,MATCH(O$4,_hR,0),FALSE)),"⚠")) -> 0 | P15: =IF(AND(ISNUMBER($A15),ISNUMBER($O15)),$A15+$O15,"") -> 0 | Q15: =IF($G15="","",IFERROR(IF(VLOOKUP($G15,_R,MATCH(Q$4,_hR,0),FALSE)="","",VLOOKUP($G15,_R,MATCH(Q$4,_hR,0),FALSE)),"⚠")) -> 0 | R15: =IF(AND(ISNUMBER($A15),ISNUMBER($Q15)),$A15+N($B15)+$Q15/24,"") -> 0
D16: =IF($C16="","",IFERROR(IF(VLOOKUP($C16,_P,MATCH(D$4,_hP,0),FALSE)="","",VLOOKUP($C16,_P,MATCH(D$4,_hP,0),FALSE)),"⚠")) -> 0 | E16: =IF($C16="","",IFERROR(IF(VLOOKUP($C16,_P,MATCH(E$4,_hP,0),FALSE)="","",VLOOKUP($C16,_P,MATCH(E$4,_hP,0),FALSE)),"⚠")) -> 0 | F16: =IF($C16="","",IFERROR(IF(VLOOKUP($C16,_P,MATCH(F$4,_hP,0),FALSE)="","",VLOOKUP($C16,_P,MATCH(F$4,_hP,0),FALSE)),"⚠")) -> 0 | H16: =IF($G16="","",IFERROR(IF(VLOOKUP($G16,_R,MATCH(H$4,_hR,0),FALSE)="","",VLOOKUP($G16,_R,MATCH(H$4,_hR,0),FALSE)),"⚠")) -> 0 | I16: =IF($G16="","",IFERROR(IF(VLOOKUP($G16,_R,MATCH(I$4,_hR,0),FALSE)="","",VLOOKUP($G16,_R,MATCH(I$4,_hR,0),FALSE)),"⚠")) -> 0 | O16: =IF($G16="","",IFERROR(IF(VLOOKUP($G16,_R,MATCH(O$4,_hR,0),FALSE)="","",VLOOKUP($G16,_R,MATCH(O$4,_hR,0),FALSE)),"⚠")) -> 0 | P16: =IF(AND(ISNUMBER($A16),ISNUMBER($O16)),$A16+$O16,"") -> 0 | Q16: =IF($G16="","",IFERROR(IF(VLOOKUP($G16,_R,MATCH(Q$4,_hR,0),FALSE)="","",VLOOKUP($G16,_R,MATCH(Q$4,_hR,0),FALSE)),"⚠")) -> 0 | R16: =IF(AND(ISNUMBER($A16),ISNUMBER($Q16)),$A16+N($B16)+$Q16/24,"") -> 0
... D1004: =IF($C1004="","",IFERROR(IF(VLOOKUP($C1004,_P,MATCH(D$4,_hP,0),FALSE)="","",VLOOKUP($C1004,_P,MATCH(D$4,_hP,0),FALSE)),"⚠")) -> 0 | E1004: =IF($C1004="","",IFERROR(IF(VLOOKUP($C1004,_P,MATCH(E$4,_hP,0),FALSE)="","",VLOOKUP($C1004,_P,MATCH(E$4,_hP,0),FALSE)),"⚠")) -> 0 | F1004: =IF($C1004="","",IFERROR(IF(VLOOKUP($C1004,_P,MATCH(F$4,_hP,0),FALSE)="","",VLOOKUP($C1004,_P,MATCH(F$4,_hP,0),FALSE)),"⚠")) -> 0 | H1004: =IF($G1004="","",IFERROR(IF(VLOOKUP($G1004,_R,MATCH(H$4,_hR,0),FALSE)="","",VLOOKUP($G1004,_R,MATCH(H$4,_hR,0),FALSE)),"⚠")) -> 0 | I1004: =IF($G1004="","",IFERROR(IF(VLOOKUP($G1004,_R,MATCH(I$4,_hR,0),FALSE)="","",VLOOKUP($G1004,_R,MATCH(I$4,_hR,0),FALSE)),"⚠")) -> 0 | O1004: =IF($G1004="","",IFERROR(IF(VLOOKUP($G1004,_R,MATCH(O$4,_hR,0),FALSE)="","",VLOOKUP($G1004,_R,MATCH(O$4,_hR,0),FALSE)),"⚠")) -> 0 | P1004: =IF(AND(ISNUMBER($A1004),ISNUMBER($O1004)),$A1004+$O1004,"") -> 0 | Q1004: =IF($G1004="","",IFERROR(IF(VLOOKUP($G1004,_R,MATCH(Q$4,_hR,0),FALSE)="","",VLOOKUP($G1004,_R,MATCH(Q$4,_hR,0),FALSE)),"⚠")) -> 0 | R1004: =IF(AND(ISNUMBER($A1004),ISNUMBER($Q1004)),$A1004+N($B1004)+$Q1004/24,"") -> 0

Sheet _k
A1: parcelles | B1: produits | C1: rang parcelle | D1: rang produit
A2: =IFERROR(INDEX(Parcelles!$A$5:$A$504,MATCH(ROWS(_k!$C$2:C2),_k!$C$2:$C$501,0)),"") -> 0 | B2: =IFERROR(INDEX(Produits!$A$5:$A$504,MATCH(ROWS(_k!$D$2:D2),_k!$D$2:$D$501,0)),"") -> 0 | C2: =IF(LEN(Parcelles!A5)=0,"",COUNTIF(Parcelles!$A$5:$A$504,"<"&Parcelles!A5)+COUNTIF(Parcelles!$A$5:A5,Parcelles!A5)) -> 0 | D2: =IF(LEN(Produits!A5)=0,"",COUNTIF(Produits!$A$5:$A$504,"<"&Produits!A5)+COUNTIF(Produits!$A$5:A5,Produits!A5)) -> 0
A3: =IFERROR(INDEX(Parcelles!$A$5:$A$504,MATCH(ROWS(_k!$C$2:C3),_k!$C$2:$C$501,0)),"") -> 0 | B3: =IFERROR(INDEX(Produits!$A$5:$A$504,MATCH(ROWS(_k!$D$2:D3),_k!$D$2:$D$501,0)),"") -> 0 | C3: =IF(LEN(Parcelles!A6)=0,"",COUNTIF(Parcelles!$A$5:$A$504,"<"&Parcelles!A6)+COUNTIF(Parcelles!$A$5:A6,Parcelles!A6)) -> 0 | D3: =IF(LEN(Produits!A6)=0,"",COUNTIF(Produits!$A$5:$A$504,"<"&Produits!A6)+COUNTIF(Produits!$A$5:A6,Produits!A6)) -> 0
A4: =IFERROR(INDEX(Parcelles!$A$5:$A$504,MATCH(ROWS(_k!$C$2:C4),_k!$C$2:$C$501,0)),"") -> 0 | B4: =IFERROR(INDEX(Produits!$A$5:$A$504,MATCH(ROWS(_k!$D$2:D4),_k!$D$2:$D$501,0)),"") -> 0 | C4: =IF(LEN(Parcelles!A7)=0,"",COUNTIF(Parcelles!$A$5:$A$504,"<"&Parcelles!A7)+COUNTIF(Parcelles!$A$5:A7,Parcelles!A7)) -> 0 | D4: =IF(LEN(Produits!A7)=0,"",COUNTIF(Produits!$A$5:$A$504,"<"&Produits!A7)+COUNTIF(Produits!$A$5:A7,Produits!A7)) -> 0
A5: =IFERROR(INDEX(Parcelles!$A$5:$A$504,MATCH(ROWS(_k!$C$2:C5),_k!$C$2:$C$501,0)),"") -> 0 | B5: =IFERROR(INDEX(Produits!$A$5:$A$504,MATCH(ROWS(_k!$D$2:D5),_k!$D$2:$D$501,0)),"") -> 0 | C5: =IF(LEN(Parcelles!A8)=0,"",COUNTIF(Parcelles!$A$5:$A$504,"<"&Parcelles!A8)+COUNTIF(Parcelles!$A$5:A8,Parcelles!A8)) -> 0 | D5: =IF(LEN(Produits!A8)=0,"",COUNTIF(Produits!$A$5:$A$504,"<"&Produits!A8)+COUNTIF(Produits!$A$5:A8,Produits!A8)) -> 0
A6: =IFERROR(INDEX(Parcelles!$A$5:$A$504,MATCH(ROWS(_k!$C$2:C6),_k!$C$2:$C$501,0)),"") -> 0 | B6: =IFERROR(INDEX(Produits!$A$5:$A$504,MATCH(ROWS(_k!$D$2:D6),_k!$D$2:$D$501,0)),"") -> 0 | C6: =IF(LEN(Parcelles!A9)=0,"",COUNTIF(Parcelles!$A$5:$A$504,"<"&Parcelles!A9)+COUNTIF(Parcelles!$A$5:A9,Parcelles!A9)) -> 0 | D6: =IF(LEN(Produits!A9)=0,"",COUNTIF(Produits!$A$5:$A$504,"<"&Produits!A9)+COUNTIF(Produits!$A$5:A9,Produits!A9)) -> 0
A7: =IFERROR(INDEX(Parcelles!$A$5:$A$504,MATCH(ROWS(_k!$C$2:C7),_k!$C$2:$C$501,0)),"") -> 0 | B7: =IFERROR(INDEX(Produits!$A$5:$A$504,MATCH(ROWS(_k!$D$2:D7),_k!$D$2:$D$501,0)),"") -> 0 | C7: =IF(LEN(Parcelles!A10)=0,"",COUNTIF(Parcelles!$A$5:$A$504,"<"&Parcelles!A10)+COUNTIF(Parcelles!$A$5:A10,Parcelles!A10)) -> 0 | D7: =IF(LEN(Produits!A10)=0,"",COUNTIF(Produits!$A$5:$A$504,"<"&Produits!A10)+COUNTIF(Produits!$A$5:A10,Produits!A10)) -> 0
A8: =IFERROR(INDEX(Parcelles!$A$5:$A$504,MATCH(ROWS(_k!$C$2:C8),_k!$C$2:$C$501,0)),"") -> 0 | B8: =IFERROR(INDEX(Produits!$A$5:$A$504,MATCH(ROWS(_k!$D$2:D8),_k!$D$2:$D$501,0)),"") -> 0 | C8: =IF(LEN(Parcelles!A11)=0,"",COUNTIF(Parcelles!$A$5:$A$504,"<"&Parcelles!A11)+COUNTIF(Parcelles!$A$5:A11,Parcelles!A11)) -> 0 | D8: =IF(LEN(Produits!A11)=0,"",COUNTIF(Produits!$A$5:$A$504,"<"&Produits!A11)+COUNTIF(Produits!$A$5:A11,Produits!A11)) -> 0
A9: =IFERROR(INDEX(Parcelles!$A$5:$A$504,MATCH(ROWS(_k!$C$2:C9),_k!$C$2:$C$501,0)),"") -> 0 | B9: =IFERROR(INDEX(Produits!$A$5:$A$504,MATCH(ROWS(_k!$D$2:D9),_k!$D$2:$D$501,0)),"") -> 0 | C9: =IF(LEN(Parcelles!A12)=0,"",COUNTIF(Parcelles!$A$5:$A$504,"<"&Parcelles!A12)+COUNTIF(Parcelles!$A$5:A12,Parcelles!A12)) -> 0 | D9: =IF(LEN(Produits!A12)=0,"",COUNTIF(Produits!$A$5:$A$504,"<"&Produits!A12)+COUNTIF(Produits!$A$5:A12,Produits!A12)) -> 0
A10: =IFERROR(INDEX(Parcelles!$A$5:$A$504,MATCH(ROWS(_k!$C$2:C10),_k!$C$2:$C$501,0)),"") -> 0 | B10: =IFERROR(INDEX(Produits!$A$5:$A$504,MATCH(ROWS(_k!$D$2:D10),_k!$D$2:$D$501,0)),"") -> 0 | C10: =IF(LEN(Parcelles!A13)=0,"",COUNTIF(Parcelles!$A$5:$A$504,"<"&Parcelles!A13)+COUNTIF(Parcelles!$A$5:A13,Parcelles!A13)) -> 0 | D10: =IF(LEN(Produits!A13)=0,"",COUNTIF(Produits!$A$5:$A$504,"<"&Produits!A13)+COUNTIF(Produits!$A$5:A13,Produits!A13)) -> 0
A11: =IFERROR(INDEX(Parcelles!$A$5:$A$504,MATCH(ROWS(_k!$C$2:C11),_k!$C$2:$C$501,0)),"") -> 0 | B11: =IFERROR(INDEX(Produits!$A$5:$A$504,MATCH(ROWS(_k!$D$2:D11),_k!$D$2:$D$501,0)),"") -> 0 | C11: =IF(LEN(Parcelles!A14)=0,"",COUNTIF(Parcelles!$A$5:$A$504,"<"&Parcelles!A14)+COUNTIF(Parcelles!$A$5:A14,Parcelles!A14)) -> 0 | D11: =IF(LEN(Produits!A14)=0,"",COUNTIF(Produits!$A$5:$A$504,"<"&Produits!A14)+COUNTIF(Produits!$A$5:A14,Produits!A14)) -> 0
A12: =IFERROR(INDEX(Parcelles!$A$5:$A$504,MATCH(ROWS(_k!$C$2:C12),_k!$C$2:$C$501,0)),"") -> 0 | B12: =IFERROR(INDEX(Produits!$A$5:$A$504,MATCH(ROWS(_k!$D$2:D12),_k!$D$2:$D$501,0)),"") -> 0 | C12: =IF(LEN(Parcelles!A15)=0,"",COUNTIF(Parcelles!$A$5:$A$504,"<"&Parcelles!A15)+COUNTIF(Parcelles!$A$5:A15,Parcelles!A15)) -> 0 | D12: =IF(LEN(Produits!A15)=0,"",COUNTIF(Produits!$A$5:$A$504,"<"&Produits!A15)+COUNTIF(Produits!$A$5:A15,Produits!A15)) -> 0
A13: =IFERROR(INDEX(Parcelles!$A$5:$A$504,MATCH(ROWS(_k!$C$2:C13),_k!$C$2:$C$501,0)),"") -> 0 | B13: =IFERROR(INDEX(Produits!$A$5:$A$504,MATCH(ROWS(_k!$D$2:D13),_k!$D$2:$D$501,0)),"") -> 0 | C13: =IF(LEN(Parcelles!A16)=0,"",COUNTIF(Parcelles!$A$5:$A$504,"<"&Parcelles!A16)+COUNTIF(Parcelles!$A$5:A16,Parcelles!A16)) -> 0 | D13: =IF(LEN(Produits!A16)=0,"",COUNTIF(Produits!$A$5:$A$504,"<"&Produits!A16)+COUNTIF(Produits!$A$5:A16,Produits!A16)) -> 0
... A501: =IFERROR(INDEX(Parcelles!$A$5:$A$504,MATCH(ROWS(_k!$C$2:C501),_k!$C$2:$C$501,0)),"") -> 0 | B501: =IFERROR(INDEX(Produits!$A$5:$A$504,MATCH(ROWS(_k!$D$2:D501),_k!$D$2:$D$501,0)),"") -> 0 | C501: =IF(LEN(Parcelles!A504)=0,"",COUNTIF(Parcelles!$A$5:$A$504,"<"&Parcelles!A504)+COUNTIF(Parcelles!$A$5:A504,Parcelles!A504)) -> 0 | D501: =IF(LEN(Produits!A504)=0,"",COUNTIF(Produits!$A$5:$A$504,"<"&Produits!A504)+COUNTIF(Produits!$A$5:A504,Produits!A504)) -> 0
